BEGIN:VCALENDAR
VERSION:2.0
PRODID:-//Plone.org//NONSGML plone.app.event//EN
X-WR-TIMEZONE:Europe/Zurich
BEGIN:VEVENT
SUMMARY:Hl. Mauritius: Landespatron Appenzell I.Rh. (schulfrei)
DTSTART;VALUE=DATE:20230922
DTEND;VALUE=DATE:20230923
DTSTAMP;VALUE=DATE-TIME:20260424T021127Z
UID:5acd098ec82448d2942861c4ed4ba454@127.0.0.1:6081
CREATED;VALUE=DATE-TIME:20230712T083047Z
LAST-MODIFIED;VALUE=DATE-TIME:20230712T083052Z
URL:https://gymnasium.ai.ch/nuetzliches/termine/hl-mauritius-landespatron-
 appenzell-i-rh-schulfrei-3
END:VEVENT
END:VCALENDAR
