BEGIN:VCALENDAR
VERSION:2.0
PRODID:-//Plone.org//NONSGML plone.app.event//EN
X-WR-TIMEZONE:Europe/Zurich
BEGIN:VEVENT
SUMMARY:Hl. Mauritius: Landespatron Appenzell I.Rh. (schulfrei)
DTSTART;VALUE=DATE:20200921
DTEND;VALUE=DATE:20200923
DTSTAMP;VALUE=DATE-TIME:20260423T231818Z
UID:7038aa76c4954fce91453b14dfadf758@127.0.0.1:10150
CREATED;VALUE=DATE-TIME:20200911T141046Z
LAST-MODIFIED;VALUE=DATE-TIME:20200911T141050Z
URL:https://gymnasium.ai.ch/nuetzliches/termine/hl-mauritius-landespatron-
 appenzell-i-rh-schulfrei
END:VEVENT
END:VCALENDAR
