BEGIN:VCALENDAR
VERSION:2.0
PRODID:-//Plone.org//NONSGML plone.app.event//EN
X-WR-TIMEZONE:Europe/Zurich
BEGIN:VEVENT
SUMMARY:Hochschulbesuchstag
DTSTART;VALUE=DATE:20180227
DTEND;VALUE=DATE:20180301
DTSTAMP;VALUE=DATE-TIME:20260424T004724Z
UID:9e67bc98e5c14a44b591399ca0a3c80e@127.0.0.1:10150
CREATED;VALUE=DATE-TIME:20180129T094415Z
DESCRIPTION:Hochschulbesuchstag Uni Genf (6. Klasse)
LAST-MODIFIED;VALUE=DATE-TIME:20180129T094418Z
URL:https://gymnasium.ai.ch/nuetzliches/termine/hochschulbesuchstag-1
END:VEVENT
END:VCALENDAR
