BEGIN:VCALENDAR
VERSION:2.0
PRODID:-//Plone.org//NONSGML plone.app.event//EN
X-WR-TIMEZONE:Europe/Zurich
BEGIN:VEVENT
SUMMARY:Hochschulbesuchstag
DTSTART;VALUE=DATE:20180110
DTEND;VALUE=DATE:20180112
DTSTAMP;VALUE=DATE-TIME:20260423T231430Z
UID:a0bbcf1036bb44679f67462739ecdfcc@127.0.0.1:10150
CREATED;VALUE=DATE-TIME:20180109T135531Z
DESCRIPTION:Hochschulbesuchstag Uni Basel (6. Klasse)
LAST-MODIFIED;VALUE=DATE-TIME:20180109T140004Z
URL:https://gymnasium.ai.ch/nuetzliches/termine/hochschulbesuchstag
END:VEVENT
END:VCALENDAR
