BEGIN:VCALENDAR
VERSION:2.0
PRODID:-//Plone.org//NONSGML plone.app.event//EN
X-WR-TIMEZONE:Europe/Zurich
BEGIN:VEVENT
SUMMARY:Information Matura 2020: 6. Gym
DTSTART;VALUE=DATE-TIME:20200212T101000Z
DTEND;VALUE=DATE-TIME:20200212T105500Z
DTSTAMP;VALUE=DATE-TIME:20260424T004730Z
UID:3e33e11c987949d098dac22d9999c619@127.0.0.1:10150
CREATED;VALUE=DATE-TIME:20190707T121129Z
LAST-MODIFIED;VALUE=DATE-TIME:20200110T074040Z
URL:https://gymnasium.ai.ch/nuetzliches/termine/information-matura-2020-6-
 gym
END:VEVENT
END:VCALENDAR
