BEGIN:VCALENDAR
VERSION:2.0
PRODID:-//Plone.org//NONSGML plone.app.event//EN
X-WR-TIMEZONE:Europe/Zurich
BEGIN:VEVENT
SUMMARY:Information Matura
DTSTART;VALUE=DATE-TIME:20180117T101000Z
DTEND;VALUE=DATE-TIME:20180117T105500Z
DTSTAMP;VALUE=DATE-TIME:20260424T004254Z
UID:cdf8861b2869455f89842bc72673c22d@127.0.0.1:10150
CREATED;VALUE=DATE-TIME:20180109T140752Z
DESCRIPTION:Information Matura 2018: 6. Klasse (11.10 Uhr\, Foyer)
LAST-MODIFIED;VALUE=DATE-TIME:20180109T140854Z
LOCATION:Foyer
URL:https://gymnasium.ai.ch/nuetzliches/termine/information-matura
END:VEVENT
END:VCALENDAR
