BEGIN:VCALENDAR
VERSION:2.0
PRODID:-//Plone.org//NONSGML plone.app.event//EN
X-WR-TIMEZONE:Europe/Zurich
BEGIN:VEVENT
SUMMARY:Information Studienberatung
DTSTART;VALUE=DATE-TIME:20180228T101000Z
DTEND;VALUE=DATE-TIME:20180228T105500Z
DTSTAMP;VALUE=DATE-TIME:20260424T004229Z
UID:ba23d966c46a40f9a9b719b36528fba2@127.0.0.1:10150
CREATED;VALUE=DATE-TIME:20180129T094325Z
DESCRIPTION:Information Studienberatung (Klasse 5A\, 11.10 – 11.55 Uhr\,
  Klassenzimmer)
LAST-MODIFIED;VALUE=DATE-TIME:20180129T094329Z
URL:https://gymnasium.ai.ch/nuetzliches/termine/information-studienberatun
 g
END:VEVENT
END:VCALENDAR
