BEGIN:VCALENDAR
VERSION:2.0
PRODID:-//Plone.org//NONSGML plone.app.event//EN
X-WR-TIMEZONE:Europe/Zurich
BEGIN:VEVENT
SUMMARY:Information und Einschreibung IDU-Woche: Klassenstunde\, 6. Klasse
 n
DTSTART;TZID=Europe/Vienna;VALUE=DATE-TIME:20230322T110000
DTEND;TZID=Europe/Vienna;VALUE=DATE-TIME:20230322T120000
DTSTAMP;VALUE=DATE-TIME:20260423T231748Z
UID:cc62db8512784cbfa40b9bbc47c893bc@127.0.0.1:6081
CREATED;VALUE=DATE-TIME:20221013T154224Z
LAST-MODIFIED;VALUE=DATE-TIME:20221013T154242Z
URL:https://gymnasium.ai.ch/nuetzliches/termine/information-und-einschreib
 ung-idu-woche-klassenstunde-6-klassen
END:VEVENT
BEGIN:VTIMEZONE
TZID:Europe/Vienna
X-LIC-LOCATION:Europe/Vienna
BEGIN:STANDARD
DTSTART;VALUE=DATE-TIME:20221030T020000
TZNAME:CET
TZOFFSETFROM:+0200
TZOFFSETTO:+0100
END:STANDARD
END:VTIMEZONE
END:VCALENDAR
