BEGIN:VCALENDAR
VERSION:2.0
PRODID:-//Plone.org//NONSGML plone.app.event//EN
X-WR-TIMEZONE:Europe/Zurich
BEGIN:VEVENT
SUMMARY:Informationsabend Eltern Maturität und Studienberatung 6. Klassen
DTSTART;TZID=Europe/Vienna;VALUE=DATE-TIME:20230824T200000
DTEND;TZID=Europe/Vienna;VALUE=DATE-TIME:20230824T213000
DTSTAMP;VALUE=DATE-TIME:20260424T021838Z
UID:dae527a52fdf48909bd7e5b9a4ee27b5@127.0.0.1:6081
CREATED;VALUE=DATE-TIME:20230712T082419Z
LAST-MODIFIED;VALUE=DATE-TIME:20230712T082425Z
URL:https://gymnasium.ai.ch/nuetzliches/termine/informationsabend-eltern-m
 aturitaet-und-studienberatung-6-klassen-1
END:VEVENT
BEGIN:VTIMEZONE
TZID:Europe/Vienna
X-LIC-LOCATION:Europe/Vienna
BEGIN:DAYLIGHT
DTSTART;VALUE=DATE-TIME:20230326T030000
TZNAME:CEST
TZOFFSETFROM:+0100
TZOFFSETTO:+0200
END:DAYLIGHT
END:VTIMEZONE
END:VCALENDAR
