BEGIN:VCALENDAR
VERSION:2.0
PRODID:-//Plone.org//NONSGML plone.app.event//EN
X-WR-TIMEZONE:Europe/Zurich
BEGIN:VEVENT
SUMMARY:Informationsabend Eltern Maturität und Studienberatung 6. Klassen
DTSTART;TZID=Europe/Vienna;VALUE=DATE-TIME:20220825T200000
DTEND;TZID=Europe/Vienna;VALUE=DATE-TIME:20220825T213000
DTSTAMP;VALUE=DATE-TIME:20260423T231808Z
UID:90911e9b319c46a7a45dd6104ac93fe4@127.0.0.1:6081
CREATED;VALUE=DATE-TIME:20220711T194650Z
LAST-MODIFIED;VALUE=DATE-TIME:20220711T194700Z
URL:https://gymnasium.ai.ch/nuetzliches/termine/informationsabend-eltern-m
 aturitaet-und-studienberatung-6-klassen
END:VEVENT
BEGIN:VTIMEZONE
TZID:Europe/Vienna
X-LIC-LOCATION:Europe/Vienna
BEGIN:DAYLIGHT
DTSTART;VALUE=DATE-TIME:20220327T030000
TZNAME:CEST
TZOFFSETFROM:+0100
TZOFFSETTO:+0200
END:DAYLIGHT
END:VTIMEZONE
END:VCALENDAR
