BEGIN:VCALENDAR
VERSION:2.0
PRODID:-//Plone.org//NONSGML plone.app.event//EN
X-WR-TIMEZONE:Europe/Zurich
BEGIN:VEVENT
SUMMARY:Informationsabend Eltern Maturität und Studienberatung 6. Klassen
DTSTART;TZID=Europe/Zurich;VALUE=DATE-TIME:20250828T200000
DTEND;TZID=Europe/Zurich;VALUE=DATE-TIME:20250828T213000
DTSTAMP;VALUE=DATE-TIME:20260423T231824Z
UID:85a3f1ca136c48eb92629273405cb34e@127.0.0.1:6081
CREATED;VALUE=DATE-TIME:20250719T061410Z
LAST-MODIFIED;VALUE=DATE-TIME:20250719T061506Z
URL:https://gymnasium.ai.ch/nuetzliches/termine/informationsabend-eltern-m
 aturitaet-und-studienberatung-6-klassenn
END:VEVENT
BEGIN:VTIMEZONE
TZID:Europe/Zurich
X-LIC-LOCATION:Europe/Zurich
BEGIN:DAYLIGHT
DTSTART;VALUE=DATE-TIME:20250330T030000
TZNAME:CEST
TZOFFSETFROM:+0100
TZOFFSETTO:+0200
END:DAYLIGHT
END:VTIMEZONE
END:VCALENDAR
