BEGIN:VCALENDAR
VERSION:2.0
PRODID:-//Plone.org//NONSGML plone.app.event//EN
X-WR-TIMEZONE:Europe/Zurich
BEGIN:VEVENT
SUMMARY:Informationsabend Maturität/Maturareisen: 5. Gym
DTSTART;VALUE=DATE-TIME:20180517T180000Z
DTEND;VALUE=DATE-TIME:20180517T200000Z
DTSTAMP;VALUE=DATE-TIME:20260423T231816Z
UID:e41b079c8eaa4d2094576b59b2a9ddd7@127.0.0.1:10150
CREATED;VALUE=DATE-TIME:20180307T093526Z
LAST-MODIFIED;VALUE=DATE-TIME:20180511T063410Z
LOCATION:Foyer Gymnasium
URL:https://gymnasium.ai.ch/nuetzliches/termine/informationsabend-maturita
 et-maturareisen-5-gym
END:VEVENT
END:VCALENDAR
