BEGIN:VCALENDAR
VERSION:2.0
PRODID:-//Plone.org//NONSGML plone.app.event//EN
X-WR-TIMEZONE:Europe/Zurich
BEGIN:VEVENT
SUMMARY:Informationsabend Maturität/Studienberatung: 5. Gym
DTSTART;VALUE=DATE-TIME:20190516T180000Z
DTEND;VALUE=DATE-TIME:20190516T200000Z
DTSTAMP;VALUE=DATE-TIME:20260423T231830Z
UID:5dff49bf01be43a7a4f3d2f8fc65c4a3@127.0.0.1:10150
CREATED;VALUE=DATE-TIME:20190401T151544Z
LAST-MODIFIED;VALUE=DATE-TIME:20190401T151547Z
LOCATION:Foyer Gymnasium
URL:https://gymnasium.ai.ch/nuetzliches/termine/informationsabend-maturita
 et-studienberatung-5-gym
END:VEVENT
END:VCALENDAR
