BEGIN:VCALENDAR
VERSION:2.0
PRODID:-//Plone.org//NONSGML plone.app.event//EN
X-WR-TIMEZONE:Europe/Zurich
BEGIN:VEVENT
SUMMARY:Informationsabend Maturität/Studienberatung: 6. Klassen
DTSTART;VALUE=DATE-TIME:20200827T180000Z
DTEND;VALUE=DATE-TIME:20200827T193000Z
DTSTAMP;VALUE=DATE-TIME:20260423T231829Z
UID:5ef9be68952d4be3950dfaf06e34ed9b@127.0.0.1:10150
CREATED;VALUE=DATE-TIME:20200818T083943Z
LAST-MODIFIED;VALUE=DATE-TIME:20200818T084021Z
LOCATION:Foyer\, Gymnasium St. Antonius
URL:https://gymnasium.ai.ch/nuetzliches/termine/informationsabend-maturita
 et-studienberatung-6-gym
END:VEVENT
END:VCALENDAR
