BEGIN:VCALENDAR
VERSION:2.0
PRODID:-//Plone.org//NONSGML plone.app.event//EN
X-WR-TIMEZONE:Europe/Zurich
BEGIN:VEVENT
SUMMARY:VERSCHOBEN: Elternabend 6. Klassen - Informationsabend «Maturitä
 t/Studienberatung»
DTSTART;VALUE=DATE-TIME:20210826T180000Z
DTEND;VALUE=DATE-TIME:20210826T193000Z
DTSTAMP;VALUE=DATE-TIME:20260424T020736Z
UID:3e7e1dc3e8c4446b8418ab1723b029dd@127.0.0.1:10150
CREATED;VALUE=DATE-TIME:20210417T192824Z
LAST-MODIFIED;VALUE=DATE-TIME:20210825T091522Z
URL:https://gymnasium.ai.ch/nuetzliches/termine/informationsabend-maturita
 et-studienberatung-6-klassen
END:VEVENT
END:VCALENDAR
