BEGIN:VCALENDAR
VERSION:2.0
PRODID:-//Plone.org//NONSGML plone.app.event//EN
X-WR-TIMEZONE:Europe/Zurich
BEGIN:VEVENT
SUMMARY:Elternabend: Für die 2. Klassen\, Quereinsteigerinnen und Querein
 steiger - Schwerpunktfach Schuljahr 2022/23
DTSTART;VALUE=DATE-TIME:20220503T170000Z
DTEND;VALUE=DATE-TIME:20220503T183000Z
DTSTAMP;VALUE=DATE-TIME:20260423T231817Z
UID:c41ae2865b9646a8ab4d6e6740161557@127.0.0.1:10150
CREATED;VALUE=DATE-TIME:20220405T090346Z
LAST-MODIFIED;VALUE=DATE-TIME:20220502T062900Z
URL:https://gymnasium.ai.ch/nuetzliches/termine/informationsabend-schwerpu
 nktfach-2022-23-information-2-klasse-quereinsteigerinnen-und-quereinsteige
 r
END:VEVENT
END:VCALENDAR
