BEGIN:VCALENDAR
VERSION:2.0
PRODID:-//Plone.org//NONSGML plone.app.event//EN
X-WR-TIMEZONE:Europe/Zurich
BEGIN:VEVENT
SUMMARY:Verschoben: Informationsabend Schwerpunktfach Schuljahr 2020/21 - 
 2. Gym / Quereinsteiger
DTSTART;VALUE=DATE-TIME:20200505T170000Z
DTEND;VALUE=DATE-TIME:20200505T183000Z
DTSTAMP;VALUE=DATE-TIME:20260423T231807Z
UID:a2e40f8b8bf44f0f91ef056445e01ba5@127.0.0.1:10150
CREATED;VALUE=DATE-TIME:20200221T174101Z
LAST-MODIFIED;VALUE=DATE-TIME:20200423T072501Z
LOCATION:Foyer Gymnasium St. Antonius
URL:https://gymnasium.ai.ch/nuetzliches/termine/informationsabend-schwerpu
 nktfach-schuljahr-2020-21-2-gym-quereinsteiger
END:VEVENT
END:VCALENDAR
