BEGIN:VCALENDAR
VERSION:2.0
PRODID:-//Plone.org//NONSGML plone.app.event//EN
X-WR-TIMEZONE:Europe/Zurich
BEGIN:VEVENT
SUMMARY:Informationsabend - Schwerpunktfach Schuljahr 2021/22: 2. Klassen 
 und Quereinsteiger*innen
DTSTART;VALUE=DATE-TIME:20210622T170000Z
DTEND;VALUE=DATE-TIME:20210622T190000Z
DTSTAMP;VALUE=DATE-TIME:20260424T005533Z
UID:2a0e6827721e4cf09d3e7154e34c0fbb@127.0.0.1:10150
CREATED;VALUE=DATE-TIME:20210417T191657Z
LAST-MODIFIED;VALUE=DATE-TIME:20210417T192051Z
URL:https://gymnasium.ai.ch/nuetzliches/termine/informationsabend-schwerpu
 nktfach-schuljahr-2021-22-2-klassen-quereinsteiger-innen
END:VEVENT
END:VCALENDAR
