BEGIN:VCALENDAR
VERSION:2.0
PRODID:-//Plone.org//NONSGML plone.app.event//EN
X-WR-TIMEZONE:Europe/Zurich
BEGIN:VEVENT
SUMMARY:Informationsabend: Wahl Schwerpunktfach 3. Gym - Schuljahr 2019/20
DTSTART;VALUE=DATE-TIME:20190430T170000Z
DTEND;VALUE=DATE-TIME:20190430T190000Z
DTSTAMP;VALUE=DATE-TIME:20260424T005437Z
UID:e01c3ab682ba47efab738c52e5357920@127.0.0.1:10150
CREATED;VALUE=DATE-TIME:20190401T151058Z
LAST-MODIFIED;VALUE=DATE-TIME:20190401T151103Z
LOCATION:Foyer Gymnasium
URL:https://gymnasium.ai.ch/nuetzliches/termine/informationsabend-wahl-sch
 werpunktfach-3-gym-schuljahr-2019-20
END:VEVENT
END:VCALENDAR
