BEGIN:VCALENDAR
VERSION:2.0
PRODID:-//Plone.org//NONSGML plone.app.event//EN
X-WR-TIMEZONE:Europe/Zurich
BEGIN:VEVENT
SUMMARY:Informationsabend Schwerpunktfach Schuljahr 2020/21: 2. Gym.-Klass
 en und Quereinsteiger
DTSTART;VALUE=DATE-TIME:20200616T170000Z
DTEND;VALUE=DATE-TIME:20200616T183000Z
DTSTAMP;VALUE=DATE-TIME:20260424T005818Z
UID:1a3a40ffe5414fef82f201196f1d4833@127.0.0.1:10150
CREATED;VALUE=DATE-TIME:20200603T195450Z
LAST-MODIFIED;VALUE=DATE-TIME:20200603T203419Z
LOCATION:Theatersaal Gymnasium St. Antonius
URL:https://gymnasium.ai.ch/nuetzliches/termine/informationsveranstaltung-
 schwerpunktfach-fuer-2-gym-klassen-und-quereinsteiger
END:VEVENT
END:VCALENDAR
