BEGIN:VCALENDAR
VERSION:2.0
PRODID:-//Plone.org//NONSGML plone.app.event//EN
X-WR-TIMEZONE:Europe/Zurich
BEGIN:VEVENT
SUMMARY:Infoveranstaltung Freifächer: 2.–4. Klassen\, 11.15-11.55 Uhr
DTSTART;VALUE=DATE:20240313
DTEND;VALUE=DATE:20240314
DTSTAMP;VALUE=DATE-TIME:20260423T231827Z
UID:353977c691494d5b85a0c1cd47af9cef@127.0.0.1:6081
CREATED;VALUE=DATE-TIME:20240202T152709Z
LAST-MODIFIED;VALUE=DATE-TIME:20240202T152850Z
URL:https://gymnasium.ai.ch/nuetzliches/termine/infoveranstaltung-freifaec
 her-2-4-klassen-11-15-11-55-uhr
END:VEVENT
END:VCALENDAR
