BEGIN:VCALENDAR
VERSION:2.0
PRODID:-//Plone.org//NONSGML plone.app.event//EN
X-WR-TIMEZONE:Europe/Zurich
BEGIN:VEVENT
SUMMARY:Infoveranstaltung Freifächer: 2. - 4. Klassen (11.15 Uhr)
DTSTART;VALUE=DATE:20250312
DTEND;VALUE=DATE:20250313
DTSTAMP;VALUE=DATE-TIME:20260424T004858Z
UID:f4ce50185cb74b339853402c082d7bf9@127.0.0.1:6081
CREATED;VALUE=DATE-TIME:20250226T073223Z
LAST-MODIFIED;VALUE=DATE-TIME:20250226T073228Z
URL:https://gymnasium.ai.ch/nuetzliches/termine/infoveranstaltung-freifaec
 her-2-4-klassen-11-15-uhr
END:VEVENT
END:VCALENDAR
