BEGIN:VCALENDAR
VERSION:2.0
PRODID:-//Plone.org//NONSGML plone.app.event//EN
X-WR-TIMEZONE:Europe/Zurich
BEGIN:VEVENT
SUMMARY:Infoveranstaltung Freifächer: 2. - 5. Gym
DTSTART;VALUE=DATE-TIME:20200219T101500Z
DTEND;VALUE=DATE-TIME:20200219T105000Z
DTSTAMP;VALUE=DATE-TIME:20260423T231603Z
UID:e38f419a37234690afedabd559237de5@127.0.0.1:10150
CREATED;VALUE=DATE-TIME:20191030T142859Z
LAST-MODIFIED;VALUE=DATE-TIME:20191030T142905Z
LOCATION:Foyer
URL:https://gymnasium.ai.ch/nuetzliches/termine/infoveranstaltung-freifaec
 her-2-5-gym-1
END:VEVENT
END:VCALENDAR
