BEGIN:VCALENDAR
VERSION:2.0
PRODID:-//Plone.org//NONSGML plone.app.event//EN
X-WR-TIMEZONE:Europe/Zurich
BEGIN:VEVENT
SUMMARY:Infoveranstaltung Freifächer: 2. - 5. Gym
DTSTART;VALUE=DATE-TIME:20190227T101500Z
DTEND;VALUE=DATE-TIME:20190227T105000Z
DTSTAMP;VALUE=DATE-TIME:20260424T004724Z
UID:51191f8806c846168d8db2d9ff99b8f6@127.0.0.1:10150
CREATED;VALUE=DATE-TIME:20190220T212303Z
LAST-MODIFIED;VALUE=DATE-TIME:20190220T212309Z
LOCATION:Foyer Gymnasium St. Antonius
URL:https://gymnasium.ai.ch/nuetzliches/termine/infoveranstaltung-freifaec
 her-2-5-gym
END:VEVENT
END:VCALENDAR
