BEGIN:VCALENDAR
VERSION:2.0
PRODID:-//Plone.org//NONSGML plone.app.event//EN
X-WR-TIMEZONE:Europe/Zurich
BEGIN:VEVENT
SUMMARY:Infoveranstaltung Freifächer: 2. – 5. Klassen (11.15 - 11.55 Uh
 r)
DTSTART;VALUE=DATE:20230308
DTEND;VALUE=DATE:20230309
DTSTAMP;VALUE=DATE-TIME:20260424T005437Z
UID:4d8af04a499c4098be1ba5912ea55aa9@127.0.0.1:6081
CREATED;VALUE=DATE-TIME:20221012T190610Z
LAST-MODIFIED;VALUE=DATE-TIME:20221012T190817Z
URL:https://gymnasium.ai.ch/nuetzliches/termine/infoveranstaltung-freifaec
 her-2-5-klassen-11-15-uhr-11-55-uhr
END:VEVENT
END:VCALENDAR
