BEGIN:VCALENDAR
VERSION:2.0
PRODID:-//Plone.org//NONSGML plone.app.event//EN
X-WR-TIMEZONE:Europe/Zurich
BEGIN:VEVENT
SUMMARY:Infoveranstaltung Freifächer
DTSTART;VALUE=DATE-TIME:20180307T101500Z
DTSTAMP;VALUE=DATE-TIME:20260423T231433Z
UID:054f5ffa42604c7ea909be1bab4dc0d2@127.0.0.1:10150
CREATED;VALUE=DATE-TIME:20180301T063436Z
DESCRIPTION:Infoveranstaltung Freifächer: 2. – 5. Klasse (11.15 Uhr\, T
 heatersaal)
LAST-MODIFIED;VALUE=DATE-TIME:20180301T063440Z
URL:https://gymnasium.ai.ch/nuetzliches/termine/infoveranstaltung-freifaec
 her
END:VEVENT
END:VCALENDAR
