BEGIN:VCALENDAR
VERSION:2.0
PRODID:-//Plone.org//NONSGML plone.app.event//EN
X-WR-TIMEZONE:Europe/Zurich
BEGIN:VEVENT
SUMMARY:Karfreitag (schulfrei)
DTSTART;VALUE=DATE:20260403
DTEND;VALUE=DATE:20260404
DTSTAMP;VALUE=DATE-TIME:20260423T231513Z
UID:87453d7e9b324e128786ca85665ffb32@127.0.0.1:6081
CREATED;VALUE=DATE-TIME:20250720T191716Z
LAST-MODIFIED;VALUE=DATE-TIME:20250720T191724Z
URL:https://gymnasium.ai.ch/nuetzliches/termine/karfreitag-schulfrei-2
END:VEVENT
END:VCALENDAR
