BEGIN:VCALENDAR
VERSION:2.0
PRODID:-//Plone.org//NONSGML plone.app.event//EN
X-WR-TIMEZONE:Europe/Zurich
BEGIN:VEVENT
SUMMARY:Karfreitag (schulfrei)
DTSTART;VALUE=DATE:20230407
DTEND;VALUE=DATE:20230408
DTSTAMP;VALUE=DATE-TIME:20260423T231513Z
UID:21fc3ba8e2a248a0abff1ee1b2e100ec@127.0.0.1:6081
CREATED;VALUE=DATE-TIME:20221012T160828Z
LAST-MODIFIED;VALUE=DATE-TIME:20221012T160835Z
URL:https://gymnasium.ai.ch/nuetzliches/termine/karfreitag-schulfrei
END:VEVENT
END:VCALENDAR
