BEGIN:VCALENDAR
VERSION:2.0
PRODID:-//Plone.org//NONSGML plone.app.event//EN
X-WR-TIMEZONE:Europe/Zurich
BEGIN:VEVENT
SUMMARY:Klassen 3A/3B: Abgabe Interessenblatt Begabungsförderung an das S
 ekretariat (E-Mail: info@gym.ai.ch)
DTSTART;VALUE=DATE-TIME:20200520T100000Z
DTEND;VALUE=DATE-TIME:20200520T100000Z
DTSTAMP;VALUE=DATE-TIME:20260423T231817Z
UID:ecce6bcf695b428a80ce1c9e86c0140e@127.0.0.1:10150
CREATED;VALUE=DATE-TIME:20200520T073423Z
LAST-MODIFIED;VALUE=DATE-TIME:20200520T073723Z
URL:https://gymnasium.ai.ch/nuetzliches/termine/klassen-3a-3b-abgabe-inter
 essenblatt-begabungsfoerderung-an-das-sekretariat-e-mail-info-gym-ai-ch
END:VEVENT
END:VCALENDAR
