BEGIN:VCALENDAR
VERSION:2.0
PRODID:-//Plone.org//NONSGML plone.app.event//EN
X-WR-TIMEZONE:Europe/Zurich
BEGIN:VEVENT
SUMMARY:Kodex-Infoveranstaltung
DTSTART;VALUE=DATE-TIME:20180228T101000Z
DTEND;VALUE=DATE-TIME:20180228T105500Z
DTSTAMP;VALUE=DATE-TIME:20260424T004420Z
UID:81ddd39e9d0649778b494446d1bbfa09@127.0.0.1:10150
CREATED;VALUE=DATE-TIME:20180129T094122Z
DESCRIPTION:Kodex-Infoveranstaltung (1. Klasse\, 11.10 Uhr\, Foyer)
LAST-MODIFIED;VALUE=DATE-TIME:20180129T094126Z
URL:https://gymnasium.ai.ch/nuetzliches/termine/kodex-infoveranstaltung
END:VEVENT
END:VCALENDAR
