BEGIN:VCALENDAR
VERSION:2.0
PRODID:-//Plone.org//NONSGML plone.app.event//EN
X-WR-TIMEZONE:Europe/Zurich
BEGIN:VEVENT
SUMMARY:5. Gym: Konzeptabgabe Maturaarbeit Schuljahr 2020/21 - via E-Mail 
 info@gym.ai.ch oder per Post
DTSTART;VALUE=DATE:20200423
DTEND;VALUE=DATE:20200425
DTSTAMP;VALUE=DATE-TIME:20260423T231654Z
UID:7059e1f9690c455ba0def6fda31bf058@127.0.0.1:10150
CREATED;VALUE=DATE-TIME:20200423T082915Z
LAST-MODIFIED;VALUE=DATE-TIME:20200423T085718Z
URL:https://gymnasium.ai.ch/nuetzliches/termine/konzeptabgabe-maturaarbeit
 -schuljahr-2020-21-via-e-mail-info-gym-ai-ch-oder-per-post
END:VEVENT
END:VCALENDAR
