BEGIN:VCALENDAR
VERSION:2.0
PRODID:-//Plone.org//NONSGML plone.app.event//EN
X-WR-TIMEZONE:Europe/Zurich
BEGIN:VEVENT
SUMMARY:Konzert Ziegelhütte
DTSTART;VALUE=DATE-TIME:20180302T143000Z
DTEND;VALUE=DATE-TIME:20180302T151500Z
DTSTAMP;VALUE=DATE-TIME:20260423T231527Z
UID:6ccbd9275f9a42aba344e61eae248a46@127.0.0.1:10150
CREATED;VALUE=DATE-TIME:20180301T062705Z
DESCRIPTION:Konzert Ziegelhütte (15.30 – 16.15 Uhr\, 6. Klasse)
LAST-MODIFIED;VALUE=DATE-TIME:20180301T062725Z
URL:https://gymnasium.ai.ch/nuetzliches/termine/konzert-ziegelhuette
END:VEVENT
END:VCALENDAR
