BEGIN:VCALENDAR
VERSION:2.0
PRODID:-//Plone.org//NONSGML plone.app.event//EN
X-WR-TIMEZONE:Europe/Zurich
BEGIN:VEVENT
SUMMARY:KUGA
DTSTART;VALUE=DATE-TIME:20180306T180000Z
DTSTAMP;VALUE=DATE-TIME:20260423T231218Z
UID:11becd09a9b14d7e8f262a69cf9c9aa8@127.0.0.1:10150
CREATED;VALUE=DATE-TIME:20180301T063154Z
DESCRIPTION:KUGA: Räuberhände / Jugendstück (19.00 Uhr\, Studio Theater
  St. Gallen)
LAST-MODIFIED;VALUE=DATE-TIME:20180301T070802Z
URL:https://gymnasium.ai.ch/nuetzliches/termine/kuga-1
END:VEVENT
END:VCALENDAR
