BEGIN:VCALENDAR
VERSION:2.0
PRODID:-//Plone.org//NONSGML plone.app.event//EN
X-WR-TIMEZONE:Europe/Zurich
BEGIN:VEVENT
SUMMARY:KUGA
DTSTART;VALUE=DATE-TIME:20180320T183000Z
DTSTAMP;VALUE=DATE-TIME:20260424T004217Z
UID:075ce764f8174a7597f7473cb1394b8d@127.0.0.1:10150
CREATED;VALUE=DATE-TIME:20180301T064531Z
DESCRIPTION:KUGA: Schlafes Bruder / Tanzstück (19.30 Uhr\, Theater St. Ga
 llen)
LAST-MODIFIED;VALUE=DATE-TIME:20180301T064535Z
URL:https://gymnasium.ai.ch/nuetzliches/termine/kuga-2
END:VEVENT
END:VCALENDAR
