BEGIN:VCALENDAR
VERSION:2.0
PRODID:-//Plone.org//NONSGML plone.app.event//EN
X-WR-TIMEZONE:Europe/Zurich
BEGIN:VEVENT
SUMMARY:KUGA
DTSTART;VALUE=DATE-TIME:20180322T190000Z
DTSTAMP;VALUE=DATE-TIME:20260423T231219Z
UID:7ee48817780f4cd6886bbdbaf9014cf4@127.0.0.1:10150
CREATED;VALUE=DATE-TIME:20180301T064904Z
DESCRIPTION:KUGA: Effi Briest mit Texten und Melodien nach Fontane (20.00 
 Uhr\, TAK Schaan)
LAST-MODIFIED;VALUE=DATE-TIME:20180301T064908Z
URL:https://gymnasium.ai.ch/nuetzliches/termine/kuga-3
END:VEVENT
END:VCALENDAR
