BEGIN:VCALENDAR
VERSION:2.0
PRODID:-//Plone.org//NONSGML plone.app.event//EN
X-WR-TIMEZONE:Europe/Zurich
BEGIN:VEVENT
SUMMARY:KUGA
DTSTART;VALUE=DATE-TIME:20180327T173000Z
DTSTAMP;VALUE=DATE-TIME:20260423T231219Z
UID:d4a05bf7eaed496fbc84f6eff197739f@127.0.0.1:10150
CREATED;VALUE=DATE-TIME:20180301T065559Z
DESCRIPTION:KUGA: Matterhorn / Musical (19.30 Uhr\, Theater St. Gallen)
LAST-MODIFIED;VALUE=DATE-TIME:20180301T065603Z
URL:https://gymnasium.ai.ch/nuetzliches/termine/kuga-4
END:VEVENT
END:VCALENDAR
