BEGIN:VCALENDAR
VERSION:2.0
PRODID:-//Plone.org//NONSGML plone.app.event//EN
X-WR-TIMEZONE:Europe/Zurich
BEGIN:VEVENT
SUMMARY:KUGA
DTSTART;VALUE=DATE-TIME:20180228T190000Z
DTSTAMP;VALUE=DATE-TIME:20260423T231220Z
UID:5ecc199138794c9b907cc3770fa76443@127.0.0.1:10150
CREATED;VALUE=DATE-TIME:20180129T094457Z
DESCRIPTION:KUGA: Tandem – Les trois Suisse / Kabarett (20.00 Uhr\, Kell
 erbühne St. Gallen)
LAST-MODIFIED;VALUE=DATE-TIME:20180129T094500Z
URL:https://gymnasium.ai.ch/nuetzliches/termine/kuga
END:VEVENT
END:VCALENDAR
