BEGIN:VCALENDAR
VERSION:2.0
PRODID:-//Plone.org//NONSGML plone.app.event//EN
X-WR-TIMEZONE:Europe/Zurich
BEGIN:VEVENT
SUMMARY:Kulturtag (Vormittag)
DTSTART;VALUE=DATE-TIME:20200129T063000Z
DTEND;VALUE=DATE-TIME:20200129T110000Z
DTSTAMP;VALUE=DATE-TIME:20260423T231514Z
UID:ab081f6d6757408f9338796a1c638410@127.0.0.1:10150
CREATED;VALUE=DATE-TIME:20190707T120234Z
LAST-MODIFIED;VALUE=DATE-TIME:20190707T120240Z
LOCATION:Gymnasium St. Antonius
URL:https://gymnasium.ai.ch/nuetzliches/termine/kulturtag-vormittag-1
END:VEVENT
END:VCALENDAR
