BEGIN:VCALENDAR
VERSION:2.0
PRODID:-//Plone.org//NONSGML plone.app.event//EN
X-WR-TIMEZONE:Europe/Zurich
BEGIN:VEVENT
SUMMARY:Kulturtag (Vormittag)
DTSTART;VALUE=DATE-TIME:20190130T063000Z
DTEND;VALUE=DATE-TIME:20190130T110000Z
DTSTAMP;VALUE=DATE-TIME:20260424T004420Z
UID:4c263c4183d241d8af8f7c9dac6e8175@127.0.0.1:10150
CREATED;VALUE=DATE-TIME:20180928T122952Z
LAST-MODIFIED;VALUE=DATE-TIME:20180928T151130Z
URL:https://gymnasium.ai.ch/nuetzliches/termine/kulturtag-vormittag
END:VEVENT
END:VCALENDAR
