BEGIN:VCALENDAR
VERSION:2.0
PRODID:-//Plone.org//NONSGML plone.app.event//EN
X-WR-TIMEZONE:Europe/Zurich
BEGIN:VEVENT
SUMMARY:Kulturtag
DTSTART;VALUE=DATE-TIME:20180124T064000Z
DTEND;VALUE=DATE-TIME:20180124T105500Z
DTSTAMP;VALUE=DATE-TIME:20260424T004229Z
UID:92a0eef12055467fbb7420db727ca723@127.0.0.1:10150
CREATED;VALUE=DATE-TIME:20180109T143954Z
DESCRIPTION:Vormittag: Kulturtag\, Nachmittag: Unterricht nach Stundenplan
LAST-MODIFIED;VALUE=DATE-TIME:20180109T144016Z
URL:https://gymnasium.ai.ch/nuetzliches/termine/kulturtag
END:VEVENT
END:VCALENDAR
