BEGIN:VCALENDAR
VERSION:2.0
PRODID:-//Plone.org//NONSGML plone.app.event//EN
X-WR-TIMEZONE:Europe/Zurich
BEGIN:VEVENT
SUMMARY:Kulturvormittag
DTSTART;TZID=Europe/Vienna;VALUE=DATE-TIME:20240124T073000
DTEND;TZID=Europe/Vienna;VALUE=DATE-TIME:20240124T120000
DTSTAMP;VALUE=DATE-TIME:20260424T005258Z
UID:b247b8d1d0d04d62a746b5ff957a61e6@127.0.0.1:6081
CREATED;VALUE=DATE-TIME:20230712T091645Z
LAST-MODIFIED;VALUE=DATE-TIME:20230712T091650Z
URL:https://gymnasium.ai.ch/nuetzliches/termine/kulturvormittag-1
END:VEVENT
BEGIN:VTIMEZONE
TZID:Europe/Vienna
X-LIC-LOCATION:Europe/Vienna
BEGIN:STANDARD
DTSTART;VALUE=DATE-TIME:20231029T020000
TZNAME:CET
TZOFFSETFROM:+0200
TZOFFSETTO:+0100
END:STANDARD
END:VTIMEZONE
END:VCALENDAR
