BEGIN:VCALENDAR
VERSION:2.0
PRODID:-//Plone.org//NONSGML plone.app.event//EN
X-WR-TIMEZONE:Europe/Zurich
BEGIN:VEVENT
SUMMARY:Kulturvormittag
DTSTART;VALUE=DATE:20250129
DTEND;VALUE=DATE:20250130
DTSTAMP;VALUE=DATE-TIME:20260423T231357Z
UID:8d1e8c3f89864b749323ff4ae90d5330@127.0.0.1:6081
CREATED;VALUE=DATE-TIME:20240703T202917Z
LAST-MODIFIED;VALUE=DATE-TIME:20240703T202959Z
URL:https://gymnasium.ai.ch/nuetzliches/termine/kulturvormittag-2
END:VEVENT
END:VCALENDAR
