BEGIN:VCALENDAR
VERSION:2.0
PRODID:-//Plone.org//NONSGML plone.app.event//EN
X-WR-TIMEZONE:Europe/Zurich
BEGIN:VEVENT
SUMMARY:Kulturvormittag
DTSTART;TZID=Europe/Vienna;VALUE=DATE-TIME:20230125T073000
DTEND;TZID=Europe/Vienna;VALUE=DATE-TIME:20230125T120000
DTSTAMP;VALUE=DATE-TIME:20260423T231344Z
UID:50e6a8f542f64235a1f45557f202c555@127.0.0.1:6081
CREATED;VALUE=DATE-TIME:20220711T204524Z
LAST-MODIFIED;VALUE=DATE-TIME:20220711T204529Z
URL:https://gymnasium.ai.ch/nuetzliches/termine/kulturvormittag
END:VEVENT
BEGIN:VTIMEZONE
TZID:Europe/Vienna
X-LIC-LOCATION:Europe/Vienna
BEGIN:STANDARD
DTSTART;VALUE=DATE-TIME:20221030T020000
TZNAME:CET
TZOFFSETFROM:+0200
TZOFFSETTO:+0100
END:STANDARD
END:VTIMEZONE
END:VCALENDAR
