BEGIN:VCALENDAR
VERSION:2.0
PRODID:-//Plone.org//NONSGML plone.app.event//EN
X-WR-TIMEZONE:Europe/Zurich
BEGIN:VEVENT
SUMMARY:Landesschulkommission
DTSTART;VALUE=DATE:20180328
DTEND;VALUE=DATE:20180330
DTSTAMP;VALUE=DATE-TIME:20260423T231316Z
UID:753883f866274f1883215782000b52de@127.0.0.1:10150
CREATED;VALUE=DATE-TIME:20180301T065826Z
DESCRIPTION:Sitzung Landesschulkommission
LAST-MODIFIED;VALUE=DATE-TIME:20180301T065832Z
URL:https://gymnasium.ai.ch/nuetzliches/termine/landesschulkommission
END:VEVENT
END:VCALENDAR
