BEGIN:VCALENDAR
VERSION:2.0
PRODID:-//Plone.org//NONSGML plone.app.event//EN
X-WR-TIMEZONE:Europe/Zurich
BEGIN:VEVENT
SUMMARY:Lehrpersonenkonferenz
DTSTART;VALUE=DATE-TIME:20180516T150000Z
DTEND;VALUE=DATE-TIME:20180516T170000Z
DTSTAMP;VALUE=DATE-TIME:20260423T231620Z
UID:1b01d28d97ad4abb9fe3ff43aaf4bcf3@127.0.0.1:10150
CREATED;VALUE=DATE-TIME:20180307T093408Z
LAST-MODIFIED;VALUE=DATE-TIME:20180511T063743Z
URL:https://gymnasium.ai.ch/nuetzliches/termine/lehrpersonenkonferenz-1
END:VEVENT
END:VCALENDAR
