BEGIN:VCALENDAR
VERSION:2.0
PRODID:-//Plone.org//NONSGML plone.app.event//EN
X-WR-TIMEZONE:Europe/Zurich
BEGIN:VEVENT
SUMMARY:Lehrpersonenkonferenz
DTSTART;VALUE=DATE-TIME:20180221T160000Z
DTSTAMP;VALUE=DATE-TIME:20260423T231524Z
UID:aa7779db294246bf87701895789bc72e@127.0.0.1:10150
CREATED;VALUE=DATE-TIME:20180129T093319Z
DESCRIPTION:Lehrpersonenkonferenz 3 (17.00 Uhr\, Plenarsaal 1.OG Mitteltra
 kt)
LAST-MODIFIED;VALUE=DATE-TIME:20180129T093324Z
URL:https://gymnasium.ai.ch/nuetzliches/termine/lehrpersonenkonferenz
END:VEVENT
END:VCALENDAR
