BEGIN:VCALENDAR
VERSION:2.0
PRODID:-//Plone.org//NONSGML plone.app.event//EN
X-WR-TIMEZONE:Europe/Zurich
BEGIN:VEVENT
SUMMARY:Lesung Bücherladen «Segeljungs»
DTSTART;TZID=Europe/Zurich;VALUE=DATE-TIME:20250910T190000
DTEND;TZID=Europe/Zurich;VALUE=DATE-TIME:20250910T200000
DTSTAMP;VALUE=DATE-TIME:20260423T231815Z
UID:9d890b54aa8a489e8471ba6e6a3e8336@127.0.0.1:6081
CREATED;VALUE=DATE-TIME:20250719T151419Z
LAST-MODIFIED;VALUE=DATE-TIME:20250719T192555Z
URL:https://gymnasium.ai.ch/nuetzliches/termine/lesung-buecherladen-segelj
 ungs-im-theatersaal-des-gymnasiums
END:VEVENT
BEGIN:VTIMEZONE
TZID:Europe/Zurich
X-LIC-LOCATION:Europe/Zurich
BEGIN:DAYLIGHT
DTSTART;VALUE=DATE-TIME:20250330T030000
TZNAME:CEST
TZOFFSETFROM:+0100
TZOFFSETTO:+0200
END:DAYLIGHT
END:VTIMEZONE
END:VCALENDAR
