BEGIN:VCALENDAR
VERSION:2.0
PRODID:-//Plone.org//NONSGML plone.app.event//EN
X-WR-TIMEZONE:Europe/Zurich
BEGIN:VEVENT
SUMMARY:Verschoben: Lesung Coralie Frei «Emigration – Immigration»
DTSTART;VALUE=DATE-TIME:20201029T180000Z
DTEND;VALUE=DATE-TIME:20201029T190000Z
DTSTAMP;VALUE=DATE-TIME:20260424T005534Z
UID:9cb84b0bdd4b4836ab5ddc0485fddedc@127.0.0.1:10150
CREATED;VALUE=DATE-TIME:20201008T144048Z
LAST-MODIFIED;VALUE=DATE-TIME:20201023T065234Z
LOCATION:Bibliothek\, Gymnasium St. Antonius
URL:https://gymnasium.ai.ch/nuetzliches/termine/lesung-franzoesisch-deutsc
 h-carolie-frei
END:VEVENT
END:VCALENDAR
