BEGIN:VCALENDAR
VERSION:2.0
PRODID:-//Plone.org//NONSGML plone.app.event//EN
X-WR-TIMEZONE:Europe/Zurich
BEGIN:VEVENT
SUMMARY:Coralie Frei: Lesung Französisch/Deutsch\, Emigration - Immigrati
 on
DTSTART;VALUE=DATE-TIME:20211028T170000Z
DTEND;VALUE=DATE-TIME:20211028T180000Z
DTSTAMP;VALUE=DATE-TIME:20260423T231803Z
UID:e562ab6c6bba4797a92e73f1744d68b5@127.0.0.1:10150
CREATED;VALUE=DATE-TIME:20210817T071812Z
LAST-MODIFIED;VALUE=DATE-TIME:20211028T150009Z
LOCATION:Foyer Gymnasium St. Antonius
URL:https://gymnasium.ai.ch/nuetzliches/termine/lesung-franzoesisch-deutsc
 h-coralie-frei
END:VEVENT
END:VCALENDAR
