BEGIN:VCALENDAR
VERSION:2.0
PRODID:-//Plone.org//NONSGML plone.app.event//EN
X-WR-TIMEZONE:Europe/Zurich
BEGIN:VEVENT
SUMMARY:Maria Empfängnis (schulfrei)
DTSTART;VALUE=DATE:20211207
DTEND;VALUE=DATE:20211209
DTSTAMP;VALUE=DATE-TIME:20260423T231654Z
UID:c44409280c8c4791b70e65fc2edb2e94@127.0.0.1:10150
CREATED;VALUE=DATE-TIME:20211024T074041Z
LAST-MODIFIED;VALUE=DATE-TIME:20211024T074045Z
URL:https://gymnasium.ai.ch/nuetzliches/termine/maria-empfaengnis-schulfre
 i-1
END:VEVENT
END:VCALENDAR
